BEGIN:VCALENDAR
VERSION:2.0
PRODID:-//eventon.com NONSGML v1.0//EN
CALSCALE:GREGORIAN
METHOD:PUBLISH
BEGIN:VEVENT
UID:69ea76f442e5a
DTSTAMP:20260423T194556Z
DTSTART:20260426T150000Z
DTEND:20260426T190000Z
LOCATION:GOALBAR BERN Junkerengasse 1
SUMMARY:Regarder en meute Dortmund - SC Freiburg
DESCRIPTION:Chers fans du Borussia Dortmund à Berne\,  C&#8217;est à nouv
 eau l&#8217;heure de l&#8217;action footballistique concentrée\,  et nous 
 vous invitons cordialement à regarder la meute au Goal Bar de Berne ! Le 1
 3 Sept 2025\,  lorsque le Borussia Dortmund affrontera SC Freiburg\,  nous 
 avons préparé un événement exclusif rien que pour[..]\nhttps://www.bvb1
 909.ch/events/regarder-en-meute-dortmund-sc-freiburg/
URL:https://www.bvb1909.ch/events/regarder-en-meute-dortmund-sc-freiburg/
END:VEVENT
END:VCALENDAR