BEGIN:VCALENDAR
VERSION:2.0
PRODID:-//eventon.com NONSGML v1.0//EN
CALSCALE:GREGORIAN
METHOD:PUBLISH
BEGIN:VEVENT
UID:69ea412d4d4a7
DTSTAMP:20260423T155629Z
DTSTART:20260426T150000Z
DTEND:20260426T190000Z
LOCATION:GOALBAR BERN Junkerengasse 1
SUMMARY:Rudelgucken Dortmund - SC Freiburg
DESCRIPTION:Liebe Borussia Dortmund Fans in Bern\,  Es ist wieder Zeit für
  geballte Fußballaction\,  und wir laden euch herzlich zum Rudelgucken in 
 der Goal Bar Bern ein! Am 13.Sep 2025\,  wenn Borussia Dortmund gegen Freib
 urg antritt\,  haben wir eine exklusive Veranstaltung nur für euch vorbere
 itet. Gemeinsam werden wir die Schwarz-Gelben unterstützen\, [..]\nhttps:/
 /www.bvb1909.ch/events/rudelgucken-dortmund-sc-freiburg/
URL:https://www.bvb1909.ch/events/rudelgucken-dortmund-sc-freiburg/
END:VEVENT
END:VCALENDAR