BEGIN:VCALENDAR
VERSION:2.0
PRODID:-//eventon.com NONSGML v1.0//EN
CALSCALE:GREGORIAN
METHOD:PUBLISH
BEGIN:VEVENT
UID:69ea8eafa78ea
DTSTAMP:20260423T212711Z
DTSTART:20270506T180000Z
DTEND:20270506T210000Z
LOCATION:Restaurante Trattoria Bella Italia Freiburgstrasse 169
SUMMARY:Table des habitués Berne
DESCRIPTION:Afin de pouvoir se rencontrer en dehors d&rsquo;un match de la 
 meute ou d&rsquo;un voyage en bus\,  nous souhaitons créer une table d&rsq
 uo;habitués 🍺 . Nous souhaitons ainsi vous offrir une option supplémen
 taire pour participer activement à la vie de l&rsquo;association. La table
  des habitués a toujours lieu le premier[..]\nhttps://www.bvb1909.ch/event
 s/table-des-habitues-berne/?lang=fr&var=ri-39.l-L1
URL:https://www.bvb1909.ch/events/table-des-habitues-berne/?lang=fr&var=ri-39.l-L1
END:VEVENT
END:VCALENDAR