BEGIN:VCALENDAR
VERSION:2.0
PRODID:-//eventon.com NONSGML v1.0//EN
CALSCALE:GREGORIAN
METHOD:PUBLISH
BEGIN:VEVENT
UID:69ea410174f3d
DTSTAMP:20260423T155545Z
DTSTART:20270107T190000Z
DTEND:20270107T220000Z
LOCATION:Restaurante Trattoria Bella Italia Freiburgstrasse 169
SUMMARY:Stammtisch Bern
DESCRIPTION:Damit man sich auch mal ausserhalb eines Rudelguckens oder bei 
 einer Busfahrt treffen kann\,  möchten wir einen Stammtisch ins Leben rufe
 n.🍺 Hiermit möchten wir euch eine Option mehr bieten \,  aktiv am Verei
 nsleben mitzumachen. Der Stammtisch findet immer am ersten Donnerstag des M
 onats um 18:00 statt. Wir treffen uns im[..]\nhttps://www.bvb1909.ch/events
 /stammtisch-bern/var/ri-35.l-L1
URL:https://www.bvb1909.ch/events/stammtisch-bern/var/ri-35.l-L1
END:VEVENT
END:VCALENDAR