BEGIN:VCALENDAR
VERSION:2.0
PRODID:-//eventon.com NONSGML v1.0//EN
CALSCALE:GREGORIAN
METHOD:PUBLISH
BEGIN:VEVENT
UID:69ea62a33da72
DTSTAMP:20260423T181915Z
DTSTART:20260613T110000Z
DTEND:20260613T160000Z
LOCATION:Saurer Kantine Arbon Weitegasse 8
SUMMARY:16e Assemblée générale
DESCRIPTION:Les prochains matchs de Bundesliga sont fixés et nous préparo
 ns activement la prochaine assemblée des membres. À cette occasion\,  nou
 s avons le plaisir de vous inviter cette année au bord du Lake Constance !
  😊 Quand ? Samedi 13 juin 2026 dès 13h30Où ? Saurer Kantine Après un 
 court apéritif\, [..]\nhttps://www.bvb1909.ch/events/16e-assemblee-general
 e/?lang=fr
URL:https://www.bvb1909.ch/events/16e-assemblee-generale/?lang=fr
END:VEVENT
END:VCALENDAR