BEGIN:VCALENDAR
VERSION:2.0
PRODID:-//eventon.com NONSGML v1.0//EN
CALSCALE:GREGORIAN
METHOD:PUBLISH
BEGIN:VEVENT
UID:69ea629d70330
DTSTAMP:20260423T181909Z
DTSTART:20260627T060000Z
DTEND:20260627T160000Z
LOCATION:Sportplatz Letzi Espenhofweg 56\,  8047 Zürich
SUMMARY:45. Letzi - Cup 2026
DESCRIPTION:Réservez la date pour la 45e édition du Letzicup ! En 2026 au
 ssi\,  nous voulons à nouveau participer en tant qu’équipe pour représ
 enter dignement nos couleurs noir et jaune. Ensemble\,  nous affronterons d
 &rsquo;autres fanclubs et passerons une journée formidable avec vous. Part
 icipe – que ce soit comme joueur ou comme[..]\nhttps://www.bvb1909.ch/eve
 nts/45-letzi-cup-2025-2/?lang=fr
URL:https://www.bvb1909.ch/events/45-letzi-cup-2025-2/?lang=fr
END:VEVENT
END:VCALENDAR