BEGIN:VCALENDAR
VERSION:2.0
PRODID:-//eventon.com NONSGML v1.0//EN
CALSCALE:GREGORIAN
METHOD:PUBLISH
BEGIN:VEVENT
UID:69ea8095d8eb2
DTSTAMP:20260423T202701Z
DTSTART:20260803T180000Z
DTEND:20260803T210000Z
LOCATION:Ochsen Bar St. Gallerstrasse 9
SUMMARY:Table des habitués ST-Gall
DESCRIPTION:Afin de pouvoir se rencontrer en dehors d&rsquo;un match de la 
 meute ou d&rsquo;un voyage en bus\,  nous souhaitons créer une table d&rsq
 uo;habitués 🍺 . Nous souhaitons ainsi vous offrir une option supplémen
 taire pour participer activement à la vie de l&rsquo;association. Le Stamm
 tisch a toujours lieu le premier lundi du[..]\nhttps://www.bvb1909.ch/event
 s/table-des-habitues-st-gall/?lang=fr&var=ri-30.l-L1
URL:https://www.bvb1909.ch/events/table-des-habitues-st-gall/?lang=fr&var=ri-30.l-L1
END:VEVENT
END:VCALENDAR